BEGIN:VCALENDAR
VERSION:2.0
PRODID:-//Hawaii Horse Show Association - ECPv6.15.20//NONSGML v1.0//EN
CALSCALE:GREGORIAN
METHOD:PUBLISH
X-ORIGINAL-URL:https://hhsa.us
X-WR-CALDESC:Events for Hawaii Horse Show Association
REFRESH-INTERVAL;VALUE=DURATION:PT1H
X-Robots-Tag:noindex
X-PUBLISHED-TTL:PT1H
BEGIN:VTIMEZONE
TZID:Pacific/Honolulu
BEGIN:STANDARD
TZOFFSETFROM:-1000
TZOFFSETTO:-1000
TZNAME:HST
DTSTART:20240101T000000
END:STANDARD
END:VTIMEZONE
BEGIN:VEVENT
DTSTART;TZID=Pacific/Honolulu:20250913T080000
DTEND;TZID=Pacific/Honolulu:20250914T170000
DTSTAMP:20260424T155952
CREATED:20250203T085336Z
LAST-MODIFIED:20250203T085338Z
UID:1212-1757750400-1757869200@hhsa.us
SUMMARY:ASDS Show IV
DESCRIPTION:Aloha State Dressage Show 4 at Maunawili Farms
URL:https://hhsa.us/events/asds-show-iv/
END:VEVENT
BEGIN:VEVENT
DTSTART;TZID=Pacific/Honolulu:20250920T080000
DTEND;TZID=Pacific/Honolulu:20250921T170000
DTSTAMP:20260424T155952
CREATED:20250203T082509Z
LAST-MODIFIED:20250203T085650Z
UID:1192-1758355200-1758474000@hhsa.us
SUMMARY:HHSA Fall Frolic Hunter Show
DESCRIPTION:At Maunawili Farms with Judge Robert Von Jacobs
URL:https://hhsa.us/events/hhsa-april-showers-hunter-show-2/
END:VEVENT
END:VCALENDAR