BEGIN:VCALENDAR
VERSION:2.0
PRODID:-//Hawaii Horse Show Association - ECPv6.15.20//NONSGML v1.0//EN
CALSCALE:GREGORIAN
METHOD:PUBLISH
X-ORIGINAL-URL:https://hhsa.us
X-WR-CALDESC:Events for Hawaii Horse Show Association
REFRESH-INTERVAL;VALUE=DURATION:PT1H
X-Robots-Tag:noindex
X-PUBLISHED-TTL:PT1H
BEGIN:VTIMEZONE
TZID:Pacific/Honolulu
BEGIN:STANDARD
TZOFFSETFROM:-1000
TZOFFSETTO:-1000
TZNAME:HST
DTSTART:20240101T000000
END:STANDARD
END:VTIMEZONE
BEGIN:VEVENT
DTSTART;TZID=Pacific/Honolulu:20250412T080000
DTEND;TZID=Pacific/Honolulu:20250413T170000
DTSTAMP:20260425T003938
CREATED:20250203T083311Z
LAST-MODIFIED:20250203T083314Z
UID:1200-1744444800-1744563600@hhsa.us
SUMMARY:HHSA April Showers Hunter Show
DESCRIPTION:Join us at High Point Stables with Judge Mary Cohen for the kickoff show of the 2025 season!
URL:https://hhsa.us/events/hhsa-april-showers-hunter-show-3/
END:VEVENT
END:VCALENDAR