BEGIN:VCALENDAR
VERSION:2.0
PRODID:-//Hawaii Horse Show Association - ECPv6.15.20//NONSGML v1.0//EN
CALSCALE:GREGORIAN
METHOD:PUBLISH
X-WR-CALNAME:Hawaii Horse Show Association
X-ORIGINAL-URL:https://hhsa.us
X-WR-CALDESC:Events for Hawaii Horse Show Association
REFRESH-INTERVAL;VALUE=DURATION:PT1H
X-Robots-Tag:noindex
X-PUBLISHED-TTL:PT1H
BEGIN:VTIMEZONE
TZID:Pacific/Honolulu
BEGIN:STANDARD
TZOFFSETFROM:-1000
TZOFFSETTO:-1000
TZNAME:HST
DTSTART:20230101T000000
END:STANDARD
END:VTIMEZONE
BEGIN:VEVENT
DTSTART;TZID=Pacific/Honolulu:20240907T080000
DTEND;TZID=Pacific/Honolulu:20240908T170000
DTSTAMP:20260425T120403
CREATED:20240511T193549Z
LAST-MODIFIED:20240511T193551Z
UID:1164-1725696000-1725814800@hhsa.us
SUMMARY:Aloha State Dressage (ASDS) Show IV
DESCRIPTION:Maunawili Farms
URL:https://hhsa.us/events/aloha-state-dressage-asds-show-iv/
END:VEVENT
BEGIN:VEVENT
DTSTART;TZID=Pacific/Honolulu:20240921T080000
DTEND;TZID=Pacific/Honolulu:20240922T170000
DTSTAMP:20260425T120403
CREATED:20240511T184823Z
LAST-MODIFIED:20240511T184839Z
UID:1149-1726905600-1727024400@hhsa.us
SUMMARY:HHSA Fall Frolic Hunter Show
DESCRIPTION:Maunawili Farms\, Kailua\, Oahu
URL:https://hhsa.us/events/hhsa-fall-frolic-hunter-show-2/
END:VEVENT
BEGIN:VEVENT
DTSTART;TZID=Pacific/Honolulu:20240923T080000
DTEND;TZID=Pacific/Honolulu:20240925T170000
DTSTAMP:20260425T120403
CREATED:20240511T185147Z
LAST-MODIFIED:20240511T185149Z
UID:1154-1727078400-1727283600@hhsa.us
SUMMARY:Post Show Clinics with Jessie Lang
DESCRIPTION:
URL:https://hhsa.us/events/post-show-clinics-with-jessie-lang/
END:VEVENT
END:VCALENDAR