BEGIN:VCALENDAR
VERSION:2.0
PRODID:-//Hawaii Horse Show Association - ECPv6.15.20//NONSGML v1.0//EN
CALSCALE:GREGORIAN
METHOD:PUBLISH
X-WR-CALNAME:Hawaii Horse Show Association
X-ORIGINAL-URL:https://hhsa.us
X-WR-CALDESC:Events for Hawaii Horse Show Association
REFRESH-INTERVAL;VALUE=DURATION:PT1H
X-Robots-Tag:noindex
X-PUBLISHED-TTL:PT1H
BEGIN:VTIMEZONE
TZID:Pacific/Honolulu
BEGIN:STANDARD
TZOFFSETFROM:-1000
TZOFFSETTO:-1000
TZNAME:HST
DTSTART:20230101T000000
END:STANDARD
END:VTIMEZONE
BEGIN:VEVENT
DTSTART;TZID=Pacific/Honolulu:20240803T080000
DTEND;TZID=Pacific/Honolulu:20240804T170000
DTSTAMP:20260425T133806
CREATED:20240511T193434Z
LAST-MODIFIED:20240511T193435Z
UID:1162-1722672000-1722790800@hhsa.us
SUMMARY:Aloha State Dressage (ASDS) Show III
DESCRIPTION:Hilltop Ranch
URL:https://hhsa.us/events/aloha-state-dressage-asds-show-iii/
END:VEVENT
BEGIN:VEVENT
DTSTART;TZID=Pacific/Honolulu:20240817T080000
DTEND;TZID=Pacific/Honolulu:20240818T170000
DTSTAMP:20260425T133806
CREATED:20240511T184718Z
LAST-MODIFIED:20240511T184720Z
UID:1147-1723881600-1724000400@hhsa.us
SUMMARY:HHSA Hunter Classic
DESCRIPTION:High Point Stables\, Waimanalo\, Oahu
URL:https://hhsa.us/events/hhsa-hunter-classic-3/
END:VEVENT
BEGIN:VEVENT
DTSTART;TZID=Pacific/Honolulu:20240819T080000
DTEND;TZID=Pacific/Honolulu:20240821T170000
DTSTAMP:20260425T133806
CREATED:20240511T185000Z
LAST-MODIFIED:20240511T185002Z
UID:1152-1724054400-1724259600@hhsa.us
SUMMARY:Post Show Clinics with Patte Zumbrun
DESCRIPTION:
URL:https://hhsa.us/events/post-show-clinics-with-patte-zumbrun/
END:VEVENT
END:VCALENDAR