BEGIN:VCALENDAR
VERSION:2.0
PRODID:-//Hawaii Horse Show Association - ECPv6.15.20//NONSGML v1.0//EN
CALSCALE:GREGORIAN
METHOD:PUBLISH
X-WR-CALNAME:Hawaii Horse Show Association
X-ORIGINAL-URL:https://hhsa.us
X-WR-CALDESC:Events for Hawaii Horse Show Association
REFRESH-INTERVAL;VALUE=DURATION:PT1H
X-Robots-Tag:noindex
X-PUBLISHED-TTL:PT1H
BEGIN:VTIMEZONE
TZID:Pacific/Honolulu
BEGIN:STANDARD
TZOFFSETFROM:-1000
TZOFFSETTO:-1000
TZNAME:HST
DTSTART:20220101T000000
END:STANDARD
END:VTIMEZONE
BEGIN:VEVENT
DTSTART;TZID=Pacific/Honolulu:20230708T000000
DTEND;TZID=Pacific/Honolulu:20230709T235959
DTSTAMP:20260425T033440
CREATED:20230307T085019Z
LAST-MODIFIED:20230307T085021Z
UID:1028-1688774400-1688947199@hhsa.us
SUMMARY:Aloha State Dressage Society Show II
DESCRIPTION:
URL:https://hhsa.us/events/aloha-state-dressage-society-show-ii/
LOCATION:Maunawili Farms\, 1015 Auloa Rd\, Kailua\, Hawaii\, 96734
END:VEVENT
BEGIN:VEVENT
DTSTART;TZID=Pacific/Honolulu:20230610T000000
DTEND;TZID=Pacific/Honolulu:20230611T235959
DTSTAMP:20260425T033440
CREATED:20230307T084047Z
LAST-MODIFIED:20230307T091602Z
UID:1026-1686355200-1686527999@hhsa.us
SUMMARY:Aloha State Dressage Society Show I
DESCRIPTION:
URL:https://hhsa.us/events/aloha-state-dressage-society-show-i/
LOCATION:Hilltop Equestrian Center\, 41-430 Waikupuhana Street\, Waimanalo\, HI\, 96795\, United States
END:VEVENT
BEGIN:VEVENT
DTSTART;TZID=Pacific/Honolulu:20230520T000000
DTEND;TZID=Pacific/Honolulu:20230521T235959
DTSTAMP:20260425T033440
CREATED:20230307T075614Z
LAST-MODIFIED:20230307T080531Z
UID:1017-1684540800-1684713599@hhsa.us
SUMMARY:HHSA Spring Fling Hunter Show
DESCRIPTION:
URL:https://hhsa.us/events/spring-fling-hunter-show/
END:VEVENT
END:VCALENDAR