BEGIN:VCALENDAR
VERSION:2.0
PRODID:-//Hawaii Horse Show Association - ECPv6.15.20//NONSGML v1.0//EN
CALSCALE:GREGORIAN
METHOD:PUBLISH
X-WR-CALNAME:Hawaii Horse Show Association
X-ORIGINAL-URL:https://hhsa.us
X-WR-CALDESC:Events for Hawaii Horse Show Association
REFRESH-INTERVAL;VALUE=DURATION:PT1H
X-Robots-Tag:noindex
X-PUBLISHED-TTL:PT1H
BEGIN:VTIMEZONE
TZID:Pacific/Honolulu
BEGIN:STANDARD
TZOFFSETFROM:-1000
TZOFFSETTO:-1000
TZNAME:HST
DTSTART:20250101T000000
END:STANDARD
END:VTIMEZONE
BEGIN:VEVENT
DTSTART;TZID=Pacific/Honolulu:20260516T080000
DTEND;TZID=Pacific/Honolulu:20260516T170000
DTSTAMP:20260425T035419
CREATED:20260130T064706Z
LAST-MODIFIED:20260130T070249Z
UID:1246-1778918400-1778950800@hhsa.us
SUMMARY:Spring Fling Hunter Show @ High Point Stables
DESCRIPTION:
URL:https://hhsa.us/events/spring-fling-hunter-show-high-point/
END:VEVENT
BEGIN:VEVENT
DTSTART;TZID=Pacific/Honolulu:20260517T080000
DTEND;TZID=Pacific/Honolulu:20260517T170000
DTSTAMP:20260425T035419
CREATED:20260130T070304Z
LAST-MODIFIED:20260130T070305Z
UID:1261-1779004800-1779037200@hhsa.us
SUMMARY:Spring Fling Hunter Show @ High Point Stables
DESCRIPTION:
URL:https://hhsa.us/events/spring-fling-hunter-show-high-point-stables/
END:VEVENT
BEGIN:VEVENT
DTSTART;TZID=Pacific/Honolulu:20260822T080000
DTEND;TZID=Pacific/Honolulu:20260822T170000
DTSTAMP:20260425T035419
CREATED:20260130T065017Z
LAST-MODIFIED:20260130T070154Z
UID:1248-1787385600-1787418000@hhsa.us
SUMMARY:Fall Fling Hunter Show @ Dillingham Ranch
DESCRIPTION:
URL:https://hhsa.us/events/fall-frolic-hunter-show-dillingham-ranch/
END:VEVENT
BEGIN:VEVENT
DTSTART;TZID=Pacific/Honolulu:20260823T080000
DTEND;TZID=Pacific/Honolulu:20260823T170000
DTSTAMP:20260425T035419
CREATED:20260130T070219Z
LAST-MODIFIED:20260130T070221Z
UID:1259-1787472000-1787504400@hhsa.us
SUMMARY:Fall Fling Hunter Show @ Dillingham Ranch
DESCRIPTION:
URL:https://hhsa.us/events/fall-fling-hunter-show-dillingham-ranch/
END:VEVENT
BEGIN:VEVENT
DTSTART;TZID=Pacific/Honolulu:20260919T080000
DTEND;TZID=Pacific/Honolulu:20260919T170000
DTSTAMP:20260425T035419
CREATED:20260130T065603Z
LAST-MODIFIED:20260130T070104Z
UID:1250-1789804800-1789837200@hhsa.us
SUMMARY:Fall Frolic Hunter Show @ Maunawili Farms
DESCRIPTION:
URL:https://hhsa.us/events/fall-frolic-hunter-show-maunawili-farms/
END:VEVENT
BEGIN:VEVENT
DTSTART;TZID=Pacific/Honolulu:20260920T080000
DTEND;TZID=Pacific/Honolulu:20260920T170000
DTSTAMP:20260425T035419
CREATED:20260130T070128Z
LAST-MODIFIED:20260130T070130Z
UID:1257-1789891200-1789923600@hhsa.us
SUMMARY:Fall Frolic Hunter Show @ Maunawili Farms
DESCRIPTION:
URL:https://hhsa.us/events/fall-frolic-hunter-show-maunawili-farms-2/
END:VEVENT
END:VCALENDAR